BEGIN:VCALENDAR
VERSION:2.0
PRODID:-//Festival CinéPride - ECPv6.15.17.1//NONSGML v1.0//EN
CALSCALE:GREGORIAN
METHOD:PUBLISH
X-ORIGINAL-URL:https://www.festivalcinepride.com
X-WR-CALDESC:Évènements pour Festival CinéPride
REFRESH-INTERVAL;VALUE=DURATION:PT1H
X-Robots-Tag:noindex
X-PUBLISHED-TTL:PT1H
BEGIN:VTIMEZONE
TZID:Europe/Paris
BEGIN:DAYLIGHT
TZOFFSETFROM:+0100
TZOFFSETTO:+0200
TZNAME:CEST
DTSTART:20230326T010000
END:DAYLIGHT
BEGIN:STANDARD
TZOFFSETFROM:+0200
TZOFFSETTO:+0100
TZNAME:CET
DTSTART:20231029T010000
END:STANDARD
BEGIN:DAYLIGHT
TZOFFSETFROM:+0100
TZOFFSETTO:+0200
TZNAME:CEST
DTSTART:20240331T010000
END:DAYLIGHT
BEGIN:STANDARD
TZOFFSETFROM:+0200
TZOFFSETTO:+0100
TZNAME:CET
DTSTART:20241027T010000
END:STANDARD
BEGIN:DAYLIGHT
TZOFFSETFROM:+0100
TZOFFSETTO:+0200
TZNAME:CEST
DTSTART:20250330T010000
END:DAYLIGHT
BEGIN:STANDARD
TZOFFSETFROM:+0200
TZOFFSETTO:+0100
TZNAME:CET
DTSTART:20251026T010000
END:STANDARD
END:VTIMEZONE
BEGIN:VEVENT
DTSTART;TZID=Europe/Paris:20240423T203000
DTEND;TZID=Europe/Paris:20240423T223000
DTSTAMP:20260422T181146
CREATED:20240417T113043Z
LAST-MODIFIED:20240417T114225Z
UID:4081-1713904200-1713911400@www.festivalcinepride.com
SUMMARY:Un jour fille - Séance spéciale 20 ans #4
DESCRIPTION:Pour patienter jusqu’à sa 20e édition prévue du 18 au 23 juin 2024\, le Festival CinéPride vous propose une séance spéciale par mois ! \nPour ce 4e rendez-vous CinéPride vous invite à découvrir en avant-première  Un jour fille de Jean-Claude Monod\, le mardi 23 avril à 20h30. Le film sera présenté par l’équipe du festival et sera suivi d’un temps d’échange avec une association partenaire (précisions à venir). \nUN JOUR FILLE\nDrame historique de Jean-Claude Monod(France\, 1h33)avec Marie Toscan\, Iris Bry\, Thomas Scimeca… \nXVIIIe siècle. Anne\, grandie fille\, doit « changer d’habit » en raison de son attirance pour les femmes. Devenue homme\, il se marie\, et vit une grande histoire d’amour avec sa nouvelle épouse jusqu’à ce que son passé le rattrape…\n \nL’histoire vraie et bouleversante d’Anne Grandjean née intersexe\, et de son procès retentissant\, qui interroge encore aujourd’hui toutes nos certitudes.\n\n🎟  Billetterie > Katorza.fr▶  Bande-annonce \n\n\n\n\n\n\n\n\n\n\n\n\n\n\n\n\n\n\n\n\n\n 
URL:https://www.festivalcinepride.com/evenement/un-jour-fille-seance-speciale-20-ans-4/
LOCATION:Cinéma Katorza\, 3 Rue Corneille\, Nantes\, 44000
CATEGORIES:AVP,Ciné à l'année
ATTACH;FMTTYPE=image/jpeg:https://www.festivalcinepride.com/wp-content/uploads/2024/04/un-jour-fille.jpg
END:VEVENT
END:VCALENDAR