BEGIN:VCALENDAR
VERSION:2.0
PRODID:-//Festival CinéPride - ECPv6.15.17.1//NONSGML v1.0//EN
CALSCALE:GREGORIAN
METHOD:PUBLISH
X-ORIGINAL-URL:https://www.festivalcinepride.com
X-WR-CALDESC:Évènements pour Festival CinéPride
REFRESH-INTERVAL;VALUE=DURATION:PT1H
X-Robots-Tag:noindex
X-PUBLISHED-TTL:PT1H
BEGIN:VTIMEZONE
TZID:Europe/Paris
BEGIN:DAYLIGHT
TZOFFSETFROM:+0100
TZOFFSETTO:+0200
TZNAME:CEST
DTSTART:20230326T010000
END:DAYLIGHT
BEGIN:STANDARD
TZOFFSETFROM:+0200
TZOFFSETTO:+0100
TZNAME:CET
DTSTART:20231029T010000
END:STANDARD
BEGIN:DAYLIGHT
TZOFFSETFROM:+0100
TZOFFSETTO:+0200
TZNAME:CEST
DTSTART:20240331T010000
END:DAYLIGHT
BEGIN:STANDARD
TZOFFSETFROM:+0200
TZOFFSETTO:+0100
TZNAME:CET
DTSTART:20241027T010000
END:STANDARD
BEGIN:DAYLIGHT
TZOFFSETFROM:+0100
TZOFFSETTO:+0200
TZNAME:CEST
DTSTART:20250330T010000
END:DAYLIGHT
BEGIN:STANDARD
TZOFFSETFROM:+0200
TZOFFSETTO:+0100
TZNAME:CET
DTSTART:20251026T010000
END:STANDARD
END:VTIMEZONE
BEGIN:VEVENT
DTSTART;TZID=Europe/Paris:20240528T203000
DTEND;TZID=Europe/Paris:20240528T223000
DTSTAMP:20260422T181142
CREATED:20240507T150738Z
LAST-MODIFIED:20240523T182145Z
UID:4098-1716928200-1716935400@www.festivalcinepride.com
SUMMARY:Toutes les couleurs du monde - Séance spéciale 20 ans #5
DESCRIPTION:Pour patienter jusqu’à sa 20e édition prévue du 18 au 23 juin 2024\, le Festival CinéPride vous propose une séance spéciale par mois ! \nPour ce 5e rendez-vous CinéPride vous invite à découvrir Toutes les couleurs du monde de Babatunde Apalowo\, le mardi 28 mai à 20h30. La projection sera présentée par l’équipe du festival. \nTOUTES LES COULEURS DU MONDE\nDrame de Babatunde Apalowo(Nigeria\, 1h32)avec Tope Tedela\, Riyo David\, Martha Ehinome Orhiere\, Uchechika Elumelu … \nBambino s’est installé dans sa vie de célibataire. Il a un revenu stable grâce à son emploi de chauffeur-livreur à Lagos\, et il est apprécié par son voisinage qu’il aide dès qu’il le peut. Alors que les avances de sa voisine Ifeyinwa le laissent indifférent\, Bambino rencontre le charismatique Bawa\, un photographe\, qui semble bien plus l’intriguer …\nLe réalisateur Babatunde Apalowo signe un premier long-métrage plein de délicatesse et de sensibilité dans un pays où tous les amours ne sont pas acceptés de la même manière.Film lauréat du Teddy Award à la Berlinale 2023.\n\n🎟  Billetterie > Katorza.fr▶  Bande-annonce \n\n\n\n\n\n\n\n\n\n\n\n\n\n\n\n\n\n\n\n\n\n 
URL:https://www.festivalcinepride.com/evenement/toutes-les-couleurs-du-monde-seance-speciale-20-ans-5/
LOCATION:Cinéma Katorza\, 3 Rue Corneille\, Nantes\, 44000
CATEGORIES:Ciné à l'année
ATTACH;FMTTYPE=image/jpeg:https://www.festivalcinepride.com/wp-content/uploads/2024/05/TOUTES-LES-COULEURS-DU-MONDE.jpg
END:VEVENT
END:VCALENDAR